BEGIN:VCALENDAR
VERSION:2.0
PRODID:-//Plone.org//NONSGML plone.app.event//EN
X-WR-TIMEZONE:US/Central
BEGIN:VEVENT
SUMMARY:Girl Scout informative meeting
DTSTART;TZID=US/Central:20240206T173000
DTEND;TZID=US/Central:20240206T183000
DTSTAMP:20260420T123313Z
UID:64782efc272843818b898ea6af599891@saas_stack_varnish:6080
CONTACT:Marsha Nelson\, 660-433-5622\, mnelson@pricejameslibrary.com
CREATED:20240205T173849Z
LAST-MODIFIED:20240205T173956Z
LOCATION:Common room
URL:https://www.pricejames.lib.mo.us/calendar-news/events/girl-scout-infor
 mative-meeting
END:VEVENT
BEGIN:VTIMEZONE
TZID:US/Central
X-LIC-LOCATION:US/Central
BEGIN:STANDARD
DTSTART:20231105T010000
TZNAME:CST
TZOFFSETFROM:-0500
TZOFFSETTO:-0600
END:STANDARD
END:VTIMEZONE
END:VCALENDAR
