BEGIN:VCALENDAR
VERSION:2.0
PRODID:-//Plone.org//NONSGML plone.app.event//EN
X-WR-TIMEZONE:US/Central
BEGIN:VEVENT
SUMMARY:Storytime:  Runge nature center
DTSTART;TZID=US/Central:20240806T130000
DTEND;TZID=US/Central:20240806T140000
DTSTAMP:20260420T021243Z
UID:e431395c313c4e45b03a7cff943ec774@saas_stack_varnish:6080
CONTACT:Marsha Nelson\, 660-433-5622\, mnelson@pricejameslibrary.com
CREATED:20240621T193920Z
LAST-MODIFIED:20240621T193927Z
LOCATION:Common room
URL:https://www.pricejames.lib.mo.us/calendar-news/events/storytime-runge-
 nature-center-2
END:VEVENT
BEGIN:VTIMEZONE
TZID:US/Central
X-LIC-LOCATION:US/Central
BEGIN:DAYLIGHT
DTSTART:20240310T030000
TZNAME:CDT
TZOFFSETFROM:-0600
TZOFFSETTO:-0500
END:DAYLIGHT
END:VTIMEZONE
END:VCALENDAR
